BEGIN:VCALENDAR
VERSION:2.0
PRODID:-//WeLove//Events//EN
CALSCALE:GREGORIAN
METHOD:PUBLISH
X-WR-CALNAME:3 x 1 PARTY
BEGIN:VTIMEZONE
TZID:Europe/Berlin
BEGIN:STANDARD
DTSTART:19691231T230000
TZOFFSETTO:+0100
TZOFFSETFROM:+0100
END:STANDARD
END:VTIMEZONE
BEGIN:VEVENT
UID:bbef5cd0-d451-4efc-bf69-f801e30b6a55
DTSTART:20160422T200000
DTEND:20160422T203000
STATUS:CONFIRMED
SUMMARY:3 x 1 PARTY
DESCRIPTION:Die große 1,00 € Partynacht in der Neuen Liebe Die 3 fo
 lgenden Getränkedeals gibts die ganze Nacht für nur 1,00 € BIER: P
 ils, Pils/Cola, Pils/Sprite, Pils/Fanta AFG`S: Wasser, Cola, Fanta, Sp
 rite, Engergy SEKT WEITERE GETRÄNKEDEALS AB 18 JAHREN: * Korn + Cola 
 NUR 2,00 € * Wodka Energy NUR 2,50 € ACHTUNG: * Unser Busshuttle f
 ährt ab 22:00 Uhr jede halbe Stunde vom Busbahnhof zur Neuen Liebe! P
 LAZA THE BEST OF House, Black, Charts by Oliver La Guard AMBASSADOR TH
 E BEST OF 80er &amp; 90er, Schlager, Party by DJ Holger Eintritt: 8,00
  € zzgl. 3,00 € Mindestverzehr Einlass: ab 22:00 Uhr &amp; ab 16 J
 ahren 
LOCATION:Neue Liebe Bocholt
DTSTAMP:20160426T101328Z
ORGANIZER;CN=We ♥ Bocholt:
END:VEVENT
END:VCALENDAR
