BEGIN:VCALENDAR
VERSION:2.0
PRODID:-//WeLove//Events//EN
CALSCALE:GREGORIAN
METHOD:PUBLISH
X-WR-CALNAME:Party- Party- Party ab 30 Jahre im Baccara Bocholt
BEGIN:VTIMEZONE
TZID:Europe/Berlin
BEGIN:STANDARD
DTSTART:19691231T230000
TZOFFSETTO:+0100
TZOFFSETFROM:+0100
END:STANDARD
END:VTIMEZONE
BEGIN:VEVENT
UID:63a689ee-bf0d-4603-ab1d-cea315460dc0
DTSTART:20160416T200000
DTEND:20160416T203000
STATUS:CONFIRMED
SUMMARY:Party- Party- Party ab 30 Jahre im Baccara Bocholt
DESCRIPTION:Baccara Bocholt - DIE Ü30 Diskothek - bekannt weit über 
 die Stadtgrenzen von Bocholt hinaus!  Denn hier feiert man seit Jahren
  immer standesgemäß, lässig, stilvoll und im Kreis Gleichaltriger b
 ei toller Musik und leckeren Cocktails!  Für Stimmung sorgen heute  D
 J Guido - im Hauptbereich  und DJ Christian Sanders im Discofox-Bereic
 h im 1. Stock.  Wir freuen uns auf euch!  Einlass ab 22 Uhr Einlass ab
  30 Jahren - Lichtbildausweis mitbringen!  Baccara Bocholt Ravardistra
 sse 47 46395 Bocholt www.baccara-bocholt.de 02871-9958531
LOCATION:Baccara Bocholt
DTSTAMP:20160408T094050Z
ORGANIZER;CN=We ♥ Bocholt:
END:VEVENT
END:VCALENDAR
